BEGIN:VCALENDAR
VERSION:2.0
PRODID:-//4A&#039;s Sisters Lupus Club - ECPv6.15.20//NONSGML v1.0//EN
CALSCALE:GREGORIAN
METHOD:PUBLISH
X-WR-CALNAME:4A&#039;s Sisters Lupus Club
X-ORIGINAL-URL:https://www.4asistersclub.com
X-WR-CALDESC:Events for 4A&#039;s Sisters Lupus Club
REFRESH-INTERVAL;VALUE=DURATION:PT1H
X-Robots-Tag:noindex
X-PUBLISHED-TTL:PT1H
BEGIN:VTIMEZONE
TZID:America/Chicago
BEGIN:DAYLIGHT
TZOFFSETFROM:-0600
TZOFFSETTO:-0500
TZNAME:CDT
DTSTART:20250309T080000
END:DAYLIGHT
BEGIN:STANDARD
TZOFFSETFROM:-0500
TZOFFSETTO:-0600
TZNAME:CST
DTSTART:20251102T070000
END:STANDARD
BEGIN:DAYLIGHT
TZOFFSETFROM:-0600
TZOFFSETTO:-0500
TZNAME:CDT
DTSTART:20260308T080000
END:DAYLIGHT
BEGIN:STANDARD
TZOFFSETFROM:-0500
TZOFFSETTO:-0600
TZNAME:CST
DTSTART:20261101T070000
END:STANDARD
BEGIN:DAYLIGHT
TZOFFSETFROM:-0600
TZOFFSETTO:-0500
TZNAME:CDT
DTSTART:20270314T080000
END:DAYLIGHT
BEGIN:STANDARD
TZOFFSETFROM:-0500
TZOFFSETTO:-0600
TZNAME:CST
DTSTART:20271107T070000
END:STANDARD
END:VTIMEZONE
BEGIN:VEVENT
DTSTART;TZID=America/Chicago:20260523T090000
DTEND;TZID=America/Chicago:20260523T120000
DTSTAMP:20260420T025957
CREATED:20260219T034522Z
LAST-MODIFIED:20260312T035154Z
UID:3961-1779526800-1779537600@www.4asistersclub.com
SUMMARY:FIGHT LUPUS! ANNUAL WALK FOR A CURE
DESCRIPTION:Get ready to lace up your sneakers and Walk Proud!  \n\n\n\nOn May 23\, 2026\, the 4A’s Sister’s Club is hosting its inspiring annual Fight Lupus Walk at the beautiful Girard Park in Lafayette.  \n\n\n\nThis isn’t just a walk! It’s a high-energy community celebration where you can join forces with fellow “Lupus Warriors” to raise vital funds for medical treatments and research.  \n\n\n\nSupporters can look forward to a morning packed with excitement\, including group exercise classes to get your heart pumping and a variety of vendor booths.  Whether you’re coming for the cause\, the community\, or the fun\, grab your lawn chairs and purple gear to help shine a light on the fight to end lupus! \n\n\n\n\n\n\n\nPurchase your ticket
URL:https://www.4asistersclub.com/event/walk/
ATTACH;FMTTYPE=image/png:https://www.4asistersclub.com/wp-content/uploads/2026/02/PURPLE-FLYER-1.png
END:VEVENT
END:VCALENDAR